Package: seq.hotSPOT Version: 1.9.0 Command: chmod a+r seq.hotSPOT -R && F:\biocbuild\bbs-3.22-bioc\R\bin\R.exe CMD build --keep-empty-dirs --no-resave-data seq.hotSPOT StartedAt: 2025-07-20 22:02:15 -0400 (Sun, 20 Jul 2025) EndedAt: 2025-07-20 22:02:30 -0400 (Sun, 20 Jul 2025) EllapsedTime: 14.9 seconds RetCode: 0 Status: OK PackageFile: seq.hotSPOT_1.9.0.tar.gz PackageFileSize: 1.401 MiB