Package: seq.hotSPOT Version: 1.9.0 Command: rm -rf seq.hotSPOT.buildbin-libdir && mkdir seq.hotSPOT.buildbin-libdir && F:\biocbuild\bbs-3.22-bioc\R\bin\R.exe CMD INSTALL --build --library=seq.hotSPOT.buildbin-libdir seq.hotSPOT_1.9.0.tar.gz StartedAt: 2025-07-21 10:02:46 -0400 (Mon, 21 Jul 2025) EndedAt: 2025-07-21 10:02:55 -0400 (Mon, 21 Jul 2025) EllapsedTime: 9.3 seconds RetCode: 0 Status: OK PackageFile: seq.hotSPOT_1.9.0.zip PackageFileSize: 279.5 KiB