Package: seq.hotSPOT Version: 1.9.0 Command: /home/biocbuild/bbs-3.22-bioc/R/bin/R CMD check --install=check:seq.hotSPOT.install-out.txt --library=/home/biocbuild/bbs-3.22-bioc/R/site-library --timings seq.hotSPOT_1.9.0.tar.gz StartedAt: 2025-06-30 02:19:31 -0400 (Mon, 30 Jun 2025) EndedAt: 2025-06-30 02:20:04 -0400 (Mon, 30 Jun 2025) EllapsedTime: 33.1 seconds RetCode: 0 Status: OK CheckDir: seq.hotSPOT.Rcheck Warnings: 0