Package: seq.hotSPOT Version: 1.9.0 Command: /home/biocbuild/bbs-3.22-bioc/R/bin/R CMD build --keep-empty-dirs --no-resave-data --md5 seq.hotSPOT StartedAt: 2025-06-29 19:09:31 -0400 (Sun, 29 Jun 2025) EndedAt: 2025-06-29 19:09:39 -0400 (Sun, 29 Jun 2025) EllapsedTime: 8.0 seconds RetCode: 0 Status: OK PackageFile: seq.hotSPOT_1.9.0.tar.gz PackageFileSize: 1.402 MiB