Package: seq.hotSPOT Version: 1.9.0 Command: /Library/Frameworks/R.framework/Resources/bin/R CMD build --keep-empty-dirs --no-resave-data seq.hotSPOT StartedAt: 2025-07-15 18:36:52 -0400 (Tue, 15 Jul 2025) EndedAt: 2025-07-15 18:37:04 -0400 (Tue, 15 Jul 2025) EllapsedTime: 11.4 seconds RetCode: 0 Status: OK PackageFile: seq.hotSPOT_1.9.0.tar.gz PackageFileSize: 1.401 MiB