Package: seq.hotSPOT Version: 1.9.0 Command: rm -rf seq.hotSPOT.buildbin-libdir && mkdir seq.hotSPOT.buildbin-libdir && /Users/biocbuild/BBS/utils/build-universal.sh seq.hotSPOT_1.9.0.tar.gz /Library/Frameworks/R.framework/Resources/bin/R seq.hotSPOT.buildbin-libdir StartedAt: 2025-07-15 01:19:59 -0400 (Tue, 15 Jul 2025) EndedAt: 2025-07-15 01:20:06 -0400 (Tue, 15 Jul 2025) EllapsedTime: 7.0 seconds RetCode: 0 Status: OK PackageFile: seq.hotSPOT_1.9.0.tgz PackageFileSize: 275.8 KiB