Package: semisup Version: 1.33.0 Command: /home/biocbuild/R/R/bin/R CMD build --keep-empty-dirs --no-resave-data semisup StartedAt: 2025-10-03 03:08:29 -0000 (Fri, 03 Oct 2025) EndedAt: 2025-10-03 03:08:39 -0000 (Fri, 03 Oct 2025) EllapsedTime: 10.0 seconds RetCode: 0 Status: OK PackageFile: semisup_1.33.0.tar.gz PackageFileSize: 293.3 KiB