Package: semisup Version: 1.33.0 Command: F:\biocbuild\bbs-3.22-bioc\R\bin\R.exe CMD check --no-multiarch --install=check:semisup.install-out.txt --library=F:\biocbuild\bbs-3.22-bioc\R\library --no-vignettes --timings semisup_1.33.0.tar.gz StartedAt: 2025-07-02 06:23:05 -0400 (Wed, 02 Jul 2025) EndedAt: 2025-07-02 06:23:54 -0400 (Wed, 02 Jul 2025) EllapsedTime: 49.0 seconds RetCode: 0 Status: OK CheckDir: semisup.Rcheck Warnings: 0