Package: semisup Version: 1.33.0 Command: chmod a+r semisup -R && F:\biocbuild\bbs-3.22-bioc\R\bin\R.exe CMD build --keep-empty-dirs --no-resave-data semisup StartedAt: 2025-06-29 22:01:08 -0400 (Sun, 29 Jun 2025) EndedAt: 2025-06-29 22:01:36 -0400 (Sun, 29 Jun 2025) EllapsedTime: 27.8 seconds RetCode: 0 Status: OK PackageFile: semisup_1.33.0.tar.gz PackageFileSize: 301.5 KiB