Package: semisup Version: 1.33.0 Command: rm -rf semisup.buildbin-libdir && mkdir semisup.buildbin-libdir && F:\biocbuild\bbs-3.22-bioc\R\bin\R.exe CMD INSTALL --build --library=semisup.buildbin-libdir semisup_1.33.0.tar.gz StartedAt: 2025-06-30 09:45:21 -0400 (Mon, 30 Jun 2025) EndedAt: 2025-06-30 09:45:32 -0400 (Mon, 30 Jun 2025) EllapsedTime: 11.2 seconds RetCode: 0 Status: OK PackageFile: semisup_1.33.0.zip PackageFileSize: 376.1 KiB