Package: semisup Version: 1.33.0 Command: /Library/Frameworks/R.framework/Resources/bin/R CMD INSTALL semisup StartedAt: 2025-06-29 15:05:18 -0400 (Sun, 29 Jun 2025) EndedAt: 2025-06-29 15:05:28 -0400 (Sun, 29 Jun 2025) EllapsedTime: 9.6 seconds RetCode: 0 Status: OK