Package: selectKSigs Version: 1.21.0 Command: F:\biocbuild\bbs-3.22-bioc\R\bin\R.exe CMD INSTALL selectKSigs StartedAt: 2025-07-18 16:08:03 -0400 (Fri, 18 Jul 2025) EndedAt: 2025-07-18 16:08:57 -0400 (Fri, 18 Jul 2025) EllapsedTime: 54.3 seconds RetCode: 0 Status: OK