Package: selectKSigs Version: 1.21.0 Command: chmod a+r selectKSigs -R && F:\biocbuild\bbs-3.22-bioc\R\bin\R.exe CMD build --keep-empty-dirs --no-resave-data selectKSigs StartedAt: 2025-07-18 22:05:43 -0400 (Fri, 18 Jul 2025) EndedAt: 2025-07-18 22:07:58 -0400 (Fri, 18 Jul 2025) EllapsedTime: 135.2 seconds RetCode: 0 Status: OK PackageFile: selectKSigs_1.21.0.tar.gz PackageFileSize: 329.1 KiB