Package: selectKSigs Version: 1.21.0 Command: rm -rf selectKSigs.buildbin-libdir && mkdir selectKSigs.buildbin-libdir && F:\biocbuild\bbs-3.22-bioc\R\bin\R.exe CMD INSTALL --build --library=selectKSigs.buildbin-libdir selectKSigs_1.21.0.tar.gz StartedAt: 2025-07-19 10:08:35 -0400 (Sat, 19 Jul 2025) EndedAt: 2025-07-19 10:09:26 -0400 (Sat, 19 Jul 2025) EllapsedTime: 50.5 seconds RetCode: 0 Status: OK PackageFile: selectKSigs_1.21.0.zip PackageFileSize: 738.6 KiB