Package: selectKSigs Version: 1.21.0 Command: /home/biocbuild/bbs-3.22-bioc/R/bin/R CMD INSTALL selectKSigs StartedAt: 2025-07-17 15:59:31 -0400 (Thu, 17 Jul 2025) EndedAt: 2025-07-17 15:59:46 -0400 (Thu, 17 Jul 2025) EllapsedTime: 15.2 seconds RetCode: 0 Status: OK