Package: selectKSigs Version: 1.21.0 Command: /Library/Frameworks/R.framework/Resources/bin/R CMD build --keep-empty-dirs --no-resave-data selectKSigs StartedAt: 2025-07-18 17:32:43 -0400 (Fri, 18 Jul 2025) EndedAt: 2025-07-18 17:33:18 -0400 (Fri, 18 Jul 2025) EllapsedTime: 34.4 seconds RetCode: 0 Status: OK PackageFile: selectKSigs_1.21.0.tar.gz PackageFileSize: 406.5 KiB