Package: selectKSigs Version: 1.21.0 Maintainer: Zhi Yang MaintainerEmail: zyang895 at gmail.com git_url: https://git.bioconductor.org/packages/selectKSigs git_branch: devel git_last_commit: 6688702 git_last_commit_date: 2025-04-15 11:52:53 -0400 (Tue, 15 Apr 2025)