Package: sechm Version: 1.17.1 Command: /home/biocbuild/R/R/bin/R CMD INSTALL sechm StartedAt: 2025-10-06 20:30:27 -0000 (Mon, 06 Oct 2025) EndedAt: 2025-10-06 20:31:00 -0000 (Mon, 06 Oct 2025) EllapsedTime: 32.6 seconds RetCode: 0 Status: OK