Package: sechm Version: 1.17.1 Command: /home/biocbuild/R/R/bin/R CMD check --install=check:sechm.install-out.txt --library=/home/biocbuild/R/R/site-library --no-vignettes --timings sechm_1.17.1.tar.gz StartedAt: 2025-10-07 12:01:31 -0000 (Tue, 07 Oct 2025) EndedAt: 2025-10-07 12:05:10 -0000 (Tue, 07 Oct 2025) EllapsedTime: 219.3 seconds RetCode: 0 Status: OK CheckDir: sechm.Rcheck Warnings: 0