Package: sechm Version: 1.17.1 Command: rm -rf sechm.buildbin-libdir && mkdir sechm.buildbin-libdir && F:\biocbuild\bbs-3.22-bioc\R\bin\R.exe CMD INSTALL --build --library=sechm.buildbin-libdir sechm_1.17.1.tar.gz StartedAt: 2025-08-15 11:17:17 -0400 (Fri, 15 Aug 2025) EndedAt: 2025-08-15 11:17:53 -0400 (Fri, 15 Aug 2025) EllapsedTime: 36.2 seconds RetCode: 0 Status: OK PackageFile: sechm_1.17.1.zip PackageFileSize: 649.3 KiB