Package: sechm Version: 1.17.1 Command: /Library/Frameworks/R.framework/Resources/bin/R CMD INSTALL sechm StartedAt: 2025-10-06 15:18:55 -0400 (Mon, 06 Oct 2025) EndedAt: 2025-10-06 15:19:31 -0400 (Mon, 06 Oct 2025) EllapsedTime: 35.8 seconds RetCode: 0 Status: OK