Package: sechm Version: 1.17.1 Command: /Library/Frameworks/R.framework/Resources/bin/R CMD check --install=check:sechm.install-out.txt --library=/Library/Frameworks/R.framework/Resources/library --no-vignettes --timings sechm_1.17.1.tar.gz StartedAt: 2025-10-07 00:41:24 -0400 (Tue, 07 Oct 2025) EndedAt: 2025-10-07 00:44:44 -0400 (Tue, 07 Oct 2025) EllapsedTime: 200.5 seconds RetCode: 0 Status: OK CheckDir: sechm.Rcheck Warnings: 0