Package: sechm Version: 1.17.1 Command: /Library/Frameworks/R.framework/Resources/bin/R CMD build --keep-empty-dirs --no-resave-data sechm StartedAt: 2025-10-06 17:42:09 -0400 (Mon, 06 Oct 2025) EndedAt: 2025-10-06 17:42:39 -0400 (Mon, 06 Oct 2025) EllapsedTime: 30.3 seconds RetCode: 0 Status: OK PackageFile: sechm_1.17.1.tar.gz PackageFileSize: 1.051 MiB