Package: scviR Version: 1.9.11 Command: F:\biocbuild\bbs-3.22-bioc\R\bin\R.exe CMD INSTALL scviR StartedAt: 2025-07-02 17:00:14 -0400 (Wed, 02 Jul 2025) EndedAt: 2025-07-02 17:00:55 -0400 (Wed, 02 Jul 2025) EllapsedTime: 41.6 seconds RetCode: 0 Status: OK