Package: scviR Version: 1.9.11 Command: chmod a+r scviR -R && F:\biocbuild\bbs-3.22-bioc\R\bin\R.exe CMD build --keep-empty-dirs --no-resave-data scviR StartedAt: 2025-07-02 22:08:39 -0400 (Wed, 02 Jul 2025) EndedAt: 2025-07-02 22:09:53 -0400 (Wed, 02 Jul 2025) EllapsedTime: 74.4 seconds RetCode: 1 Status: ERROR PackageFile: None PackageFileSize: NA