Package: scviR Version: 1.9.11 Command: /Library/Frameworks/R.framework/Resources/bin/R CMD build --keep-empty-dirs --no-resave-data scviR StartedAt: 2025-07-07 17:30:41 -0400 (Mon, 07 Jul 2025) EndedAt: 2025-07-07 17:31:18 -0400 (Mon, 07 Jul 2025) EllapsedTime: 37.4 seconds RetCode: 1 Status: ERROR PackageFile: None PackageFileSize: NA