Package: scry Version: 1.21.0 Command: rm -rf scry.buildbin-libdir && mkdir scry.buildbin-libdir && F:\biocbuild\bbs-3.22-bioc\R\bin\R.exe CMD INSTALL --build --library=scry.buildbin-libdir scry_1.21.0.tar.gz StartedAt: 2025-07-25 10:16:30 -0400 (Fri, 25 Jul 2025) EndedAt: 2025-07-25 10:17:01 -0400 (Fri, 25 Jul 2025) EllapsedTime: 31.1 seconds RetCode: 0 Status: OK PackageFile: scry_1.21.0.zip PackageFileSize: 4.438 MiB