Package: scry Version: 1.21.0 Command: /home/biocbuild/bbs-3.22-bioc/R/bin/R CMD check --install=check:scry.install-out.txt --library=/home/biocbuild/bbs-3.22-bioc/R/site-library --timings scry_1.21.0.tar.gz StartedAt: 2025-06-30 02:13:36 -0400 (Mon, 30 Jun 2025) EndedAt: 2025-06-30 02:20:07 -0400 (Mon, 30 Jun 2025) EllapsedTime: 390.3 seconds RetCode: 0 Status: OK CheckDir: scry.Rcheck Warnings: 0