Package: scry Version: 1.21.0 Command: /home/biocbuild/bbs-3.22-bioc/R/bin/R CMD build --keep-empty-dirs --no-resave-data --md5 scry StartedAt: 2025-06-29 19:06:54 -0400 (Sun, 29 Jun 2025) EndedAt: 2025-06-29 19:10:30 -0400 (Sun, 29 Jun 2025) EllapsedTime: 216.3 seconds RetCode: 0 Status: OK PackageFile: scry_1.21.0.tar.gz PackageFileSize: 4.496 MiB