Package: scry Version: 1.21.0 Command: /Library/Frameworks/R.framework/Resources/bin/R CMD INSTALL scry StartedAt: 2025-07-14 15:54:06 -0400 (Mon, 14 Jul 2025) EndedAt: 2025-07-14 15:54:38 -0400 (Mon, 14 Jul 2025) EllapsedTime: 31.8 seconds RetCode: 0 Status: OK