Package: scruff Version: 1.27.0 Command: /home/biocbuild/R/R/bin/R CMD INSTALL scruff StartedAt: 2025-10-02 21:22:21 -0000 (Thu, 02 Oct 2025) EndedAt: 2025-10-02 21:23:41 -0000 (Thu, 02 Oct 2025) EllapsedTime: 79.8 seconds RetCode: 0 Status: OK