Package: scruff Version: 1.27.0 Command: /home/biocbuild/R/R/bin/R CMD build --keep-empty-dirs --no-resave-data scruff StartedAt: 2025-10-03 03:05:10 -0000 (Fri, 03 Oct 2025) EndedAt: 2025-10-03 03:07:35 -0000 (Fri, 03 Oct 2025) EllapsedTime: 145.1 seconds RetCode: 1 Status: ERROR PackageFile: None PackageFileSize: NA