Package: scruff Version: 1.27.0 Command: chmod a+r scruff -R && F:\biocbuild\bbs-3.22-bioc\R\bin\R.exe CMD build --keep-empty-dirs --no-resave-data scruff StartedAt: 2025-08-14 23:09:36 -0400 (Thu, 14 Aug 2025) EndedAt: 2025-08-14 23:13:03 -0400 (Thu, 14 Aug 2025) EllapsedTime: 207.6 seconds RetCode: 0 Status: OK PackageFile: scruff_1.27.0.tar.gz PackageFileSize: 1.082 MiB