Package: scruff Version: 1.27.0 Command: rm -rf scruff.buildbin-libdir && mkdir scruff.buildbin-libdir && F:\biocbuild\bbs-3.22-bioc\R\bin\R.exe CMD INSTALL --build --library=scruff.buildbin-libdir scruff_1.27.0.tar.gz StartedAt: 2025-08-15 11:16:49 -0400 (Fri, 15 Aug 2025) EndedAt: 2025-08-15 11:18:05 -0400 (Fri, 15 Aug 2025) EllapsedTime: 76.0 seconds RetCode: 0 Status: OK PackageFile: scruff_1.27.0.zip PackageFileSize: 2.959 MiB