Package: scruff Version: 1.27.0 Command: /Library/Frameworks/R.framework/Resources/bin/R CMD INSTALL scruff StartedAt: 2025-10-05 15:27:26 -0400 (Sun, 05 Oct 2025) EndedAt: 2025-10-05 15:27:53 -0400 (Sun, 05 Oct 2025) EllapsedTime: 26.1 seconds RetCode: 0 Status: OK