Package: scruff Version: 1.27.0 Command: /Library/Frameworks/R.framework/Resources/bin/R CMD build --keep-empty-dirs --no-resave-data scruff StartedAt: 2025-10-05 17:44:04 -0400 (Sun, 05 Oct 2025) EndedAt: 2025-10-05 17:44:54 -0400 (Sun, 05 Oct 2025) EllapsedTime: 50.5 seconds RetCode: 1 Status: ERROR PackageFile: None PackageFileSize: NA