Package: screenCounter Version: 1.9.0 Command: /home/biocbuild/R/R/bin/R CMD INSTALL screenCounter StartedAt: 2025-06-26 20:30:38 -0000 (Thu, 26 Jun 2025) EndedAt: 2025-06-26 20:32:47 -0000 (Thu, 26 Jun 2025) EllapsedTime: 129.7 seconds RetCode: 0 Status: OK