Package: screenCounter Version: 1.9.0 Command: F:\biocbuild\bbs-3.22-bioc\R\bin\R.exe CMD check --no-multiarch --install=check:screenCounter.install-out.txt --library=F:\biocbuild\bbs-3.22-bioc\R\library --no-vignettes --timings screenCounter_1.9.0.tar.gz StartedAt: 2025-07-15 06:22:43 -0400 (Tue, 15 Jul 2025) EndedAt: 2025-07-15 06:26:28 -0400 (Tue, 15 Jul 2025) EllapsedTime: 225.3 seconds RetCode: 0 Status: OK CheckDir: screenCounter.Rcheck Warnings: 0