Package: screenCounter Version: 1.9.0 Command: /Library/Frameworks/R.framework/Resources/bin/R CMD INSTALL screenCounter StartedAt: 2025-06-29 15:18:33 -0400 (Sun, 29 Jun 2025) EndedAt: 2025-06-29 15:20:07 -0400 (Sun, 29 Jun 2025) EllapsedTime: 94.6 seconds RetCode: 0 Status: OK