Package: screenCounter Version: 1.9.0 Command: /Library/Frameworks/R.framework/Resources/bin/R CMD build --keep-empty-dirs --no-resave-data screenCounter StartedAt: 2025-06-29 18:14:25 -0400 (Sun, 29 Jun 2025) EndedAt: 2025-06-29 18:16:28 -0400 (Sun, 29 Jun 2025) EllapsedTime: 122.9 seconds RetCode: 0 Status: OK PackageFile: screenCounter_1.9.0.tar.gz PackageFileSize: 292.3 KiB