Package: screenCounter Version: 1.9.0 Command: /Library/Frameworks/R.framework/Resources/bin/R CMD INSTALL screenCounter StartedAt: 2025-07-01 15:09:32 -0400 (Tue, 01 Jul 2025) EndedAt: 2025-07-01 15:09:57 -0400 (Tue, 01 Jul 2025) EllapsedTime: 25.5 seconds RetCode: 0 Status: OK