Package: screenCounter Version: 1.9.0 Command: /Library/Frameworks/R.framework/Resources/bin/R CMD check --install=check:screenCounter.install-out.txt --library=/Library/Frameworks/R.framework/Resources/library --no-vignettes --timings screenCounter_1.9.0.tar.gz StartedAt: 2025-07-01 21:19:06 -0400 (Tue, 01 Jul 2025) EndedAt: 2025-07-01 21:20:11 -0400 (Tue, 01 Jul 2025) EllapsedTime: 64.8 seconds RetCode: 0 Status: OK CheckDir: screenCounter.Rcheck Warnings: 0