Package: screenCounter Version: 1.9.0 Command: /Library/Frameworks/R.framework/Resources/bin/R CMD build --keep-empty-dirs --no-resave-data screenCounter StartedAt: 2025-07-01 17:30:45 -0400 (Tue, 01 Jul 2025) EndedAt: 2025-07-01 17:31:19 -0400 (Tue, 01 Jul 2025) EllapsedTime: 34.4 seconds RetCode: 0 Status: OK PackageFile: screenCounter_1.9.0.tar.gz PackageFileSize: 292.4 KiB