Package: scrapper Version: 1.3.5 Command: rm -rf scrapper.buildbin-libdir && mkdir scrapper.buildbin-libdir && F:\biocbuild\bbs-3.22-bioc\R\bin\R.exe CMD INSTALL --build --library=scrapper.buildbin-libdir scrapper_1.3.5.tar.gz StartedAt: 2025-07-25 10:16:06 -0400 (Fri, 25 Jul 2025) EndedAt: 2025-07-25 10:22:42 -0400 (Fri, 25 Jul 2025) EllapsedTime: 395.5 seconds RetCode: 0 Status: OK PackageFile: scrapper_1.3.5.zip PackageFileSize: 1.98 MiB