Package: scrapper Version: 1.3.5 Command: /Library/Frameworks/R.framework/Resources/bin/R CMD INSTALL scrapper StartedAt: 2025-07-20 15:28:59 -0400 (Sun, 20 Jul 2025) EndedAt: 2025-07-20 15:35:08 -0400 (Sun, 20 Jul 2025) EllapsedTime: 368.8 seconds RetCode: 0 Status: OK