Package: scrapper Version: 1.3.5 Command: /Library/Frameworks/R.framework/Resources/bin/R CMD build --keep-empty-dirs --no-resave-data scrapper StartedAt: 2025-07-20 18:28:55 -0400 (Sun, 20 Jul 2025) EndedAt: 2025-07-20 18:36:36 -0400 (Sun, 20 Jul 2025) EllapsedTime: 460.8 seconds RetCode: 0 Status: OK PackageFile: scrapper_1.3.5.tar.gz PackageFileSize: 1.045 MiB