Package: scrapper Version: 1.3.5 Command: /Library/Frameworks/R.framework/Resources/bin/R CMD INSTALL scrapper StartedAt: 2025-07-14 15:08:58 -0400 (Mon, 14 Jul 2025) EndedAt: 2025-07-14 15:10:29 -0400 (Mon, 14 Jul 2025) EllapsedTime: 91.3 seconds RetCode: 0 Status: OK