Package: scrapper Version: 1.3.5 Command: /Library/Frameworks/R.framework/Resources/bin/R CMD build --keep-empty-dirs --no-resave-data scrapper StartedAt: 2025-07-14 17:30:51 -0400 (Mon, 14 Jul 2025) EndedAt: 2025-07-14 17:33:38 -0400 (Mon, 14 Jul 2025) EllapsedTime: 167.9 seconds RetCode: 0 Status: OK PackageFile: scrapper_1.3.5.tar.gz PackageFileSize: 1.023 MiB