Package: scrapper Version: 1.3.5 Command: rm -rf scrapper.buildbin-libdir && mkdir scrapper.buildbin-libdir && /Users/biocbuild/BBS/utils/build-universal.sh scrapper_1.3.5.tar.gz /Library/Frameworks/R.framework/Resources/bin/R scrapper.buildbin-libdir StartedAt: 2025-07-14 22:34:25 -0400 (Mon, 14 Jul 2025) EndedAt: 2025-07-14 22:36:04 -0400 (Mon, 14 Jul 2025) EllapsedTime: 98.9 seconds RetCode: 0 Status: OK PackageFile: scrapper_1.3.5.tgz PackageFileSize: 2.144 MiB