Package: scp Version: 1.19.2 Command: /home/biocbuild/R/R/bin/R CMD build --keep-empty-dirs --no-resave-data scp StartedAt: 2025-07-01 02:46:09 -0000 (Tue, 01 Jul 2025) EndedAt: 2025-07-01 02:51:59 -0000 (Tue, 01 Jul 2025) EllapsedTime: 349.3 seconds RetCode: 0 Status: OK PackageFile: scp_1.19.2.tar.gz PackageFileSize: 7.339 MiB